Package: scTGIF Version: 1.21.0 Command: chmod a+r scTGIF -R && E:\biocbuild\bbs-3.21-bioc\R\bin\R.exe CMD build --keep-empty-dirs --no-resave-data scTGIF StartedAt: 2025-02-20 21:41:50 -0500 (Thu, 20 Feb 2025) EndedAt: 2025-02-20 21:43:30 -0500 (Thu, 20 Feb 2025) EllapsedTime: 99.8 seconds RetCode: 0 Status: OK PackageFile: scTGIF_1.21.0.tar.gz PackageFileSize: 2.367 MiB