Package: scTGIF Version: 1.21.0 Command: /home/biocbuild/bbs-3.21-bioc/R/bin/R CMD INSTALL scTGIF StartedAt: 2025-02-20 15:40:32 -0500 (Thu, 20 Feb 2025) EndedAt: 2025-02-20 15:41:08 -0500 (Thu, 20 Feb 2025) EllapsedTime: 35.7 seconds RetCode: 0 Status: OK