Package: scTGIF Version: 1.21.0 Command: /home/biocbuild/bbs-3.21-bioc/R/bin/R CMD build --keep-empty-dirs --no-resave-data scTGIF StartedAt: 2025-02-20 19:13:23 -0500 (Thu, 20 Feb 2025) EndedAt: 2025-02-20 19:14:24 -0500 (Thu, 20 Feb 2025) EllapsedTime: 61.0 seconds RetCode: 0 Status: OK PackageFile: scTGIF_1.21.0.tar.gz PackageFileSize: 2.391 MiB