Package: scTGIF Version: 1.21.0 Command: /Library/Frameworks/R.framework/Resources/bin/R CMD build --keep-empty-dirs --no-resave-data scTGIF StartedAt: 2025-02-20 18:12:38 -0500 (Thu, 20 Feb 2025) EndedAt: 2025-02-20 18:13:53 -0500 (Thu, 20 Feb 2025) EllapsedTime: 75.2 seconds RetCode: 0 Status: OK PackageFile: scTGIF_1.21.0.tar.gz PackageFileSize: 2.411 MiB