Package: scTGIF Version: 1.21.0 Command: /home/biocbuild/R/R/bin/R CMD check --install=check:scTGIF.install-out.txt --library=/home/biocbuild/R/R/site-library --no-vignettes --timings scTGIF_1.21.0.tar.gz StartedAt: 2025-01-28 15:10:02 -0000 (Tue, 28 Jan 2025) EndedAt: 2025-01-28 15:15:51 -0000 (Tue, 28 Jan 2025) EllapsedTime: 348.4 seconds RetCode: 0 Status: OK CheckDir: scTGIF.Rcheck Warnings: 0