Package: scTGIF Version: 1.21.0 Command: /home/biocbuild/R/R/bin/R CMD build --keep-empty-dirs --no-resave-data scTGIF StartedAt: 2025-01-29 02:14:15 -0000 (Wed, 29 Jan 2025) EndedAt: 2025-01-29 02:15:39 -0000 (Wed, 29 Jan 2025) EllapsedTime: 84.1 seconds RetCode: 0 Status: OK PackageFile: scTGIF_1.21.0.tar.gz PackageFileSize: 2.381 MiB