Package: scShapes Version: 1.13.0 Command: rm -rf scShapes.buildbin-libdir && mkdir scShapes.buildbin-libdir && E:\biocbuild\bbs-3.21-bioc\R\bin\R.exe CMD INSTALL --build --library=scShapes.buildbin-libdir scShapes_1.13.0.tar.gz StartedAt: 2025-02-20 08:44:11 -0500 (Thu, 20 Feb 2025) EndedAt: 2025-02-20 08:44:36 -0500 (Thu, 20 Feb 2025) EllapsedTime: 24.4 seconds RetCode: 0 Status: OK PackageFile: scShapes_1.13.0.zip PackageFileSize: 77.15 KiB