Package: scRepertoire Version: 2.3.2 Command: chmod a+r scRepertoire -R && E:\biocbuild\bbs-3.21-bioc\R\bin\R.exe CMD build --keep-empty-dirs --no-resave-data scRepertoire StartedAt: 2025-02-19 21:32:18 -0500 (Wed, 19 Feb 2025) EndedAt: 2025-02-19 21:39:02 -0500 (Wed, 19 Feb 2025) EllapsedTime: 403.9 seconds RetCode: 0 Status: OK PackageFile: scRepertoire_2.3.2.tar.gz PackageFileSize: 18.14 MiB