Package: scRepertoire Version: 2.3.2 Command: /home/biocbuild/bbs-3.21-bioc/R/bin/R CMD build --keep-empty-dirs --no-resave-data scRepertoire StartedAt: 2025-02-19 19:08:23 -0500 (Wed, 19 Feb 2025) EndedAt: 2025-02-19 19:12:08 -0500 (Wed, 19 Feb 2025) EllapsedTime: 225.3 seconds RetCode: 0 Status: OK PackageFile: scRepertoire_2.3.2.tar.gz PackageFileSize: 21.57 MiB