Package: scRepertoire Version: 2.3.2 Command: /Library/Frameworks/R.framework/Resources/bin/R CMD build --keep-empty-dirs --no-resave-data scRepertoire StartedAt: 2025-02-19 17:34:59 -0500 (Wed, 19 Feb 2025) EndedAt: 2025-02-19 17:36:39 -0500 (Wed, 19 Feb 2025) EllapsedTime: 100.1 seconds RetCode: 0 Status: OK PackageFile: scRepertoire_2.3.2.tar.gz PackageFileSize: 23.37 MiB