Package: scRecover Version: 1.23.0 Command: E:\biocbuild\bbs-3.21-bioc\R\bin\R.exe CMD check --no-multiarch --install=check:scRecover.install-out.txt --library=E:\biocbuild\bbs-3.21-bioc\R\library --no-vignettes --timings scRecover_1.23.0.tar.gz StartedAt: 2025-02-21 05:32:46 -0500 (Fri, 21 Feb 2025) EndedAt: 2025-02-21 05:34:56 -0500 (Fri, 21 Feb 2025) EllapsedTime: 129.7 seconds RetCode: 0 Status: OK CheckDir: scRecover.Rcheck Warnings: 0