Package: scRecover Version: 1.23.0 Command: /home/biocbuild/bbs-3.21-bioc/R/bin/R CMD INSTALL scRecover StartedAt: 2025-02-21 15:49:01 -0500 (Fri, 21 Feb 2025) EndedAt: 2025-02-21 15:49:36 -0500 (Fri, 21 Feb 2025) EllapsedTime: 35.4 seconds RetCode: 0 Status: OK