Package: scRecover Version: 1.23.0 Command: /Library/Frameworks/R.framework/Resources/bin/R CMD INSTALL scRecover StartedAt: 2025-02-20 15:37:32 -0500 (Thu, 20 Feb 2025) EndedAt: 2025-02-20 15:37:45 -0500 (Thu, 20 Feb 2025) EllapsedTime: 12.8 seconds RetCode: 0 Status: OK