Package: scRecover Version: 1.23.0 Command: /Library/Frameworks/R.framework/Resources/bin/R CMD build --keep-empty-dirs --no-resave-data scRecover StartedAt: 2025-02-20 18:11:14 -0500 (Thu, 20 Feb 2025) EndedAt: 2025-02-20 18:13:25 -0500 (Thu, 20 Feb 2025) EllapsedTime: 131.4 seconds RetCode: 0 Status: OK PackageFile: scRecover_1.23.0.tar.gz PackageFileSize: 1.713 MiB