Package: scRecover Version: 1.23.0 Command: /home/biocbuild/R/R/bin/R CMD check --install=check:scRecover.install-out.txt --library=/home/biocbuild/R/R/site-library --no-vignettes --timings scRecover_1.23.0.tar.gz StartedAt: 2025-01-28 15:06:49 -0000 (Tue, 28 Jan 2025) EndedAt: 2025-01-28 15:09:55 -0000 (Tue, 28 Jan 2025) EllapsedTime: 186.2 seconds RetCode: 0 Status: OK CheckDir: scRecover.Rcheck Warnings: 0