Package: scRecover Version: 1.23.0 Command: /Library/Frameworks/R.framework/Resources/bin/R CMD INSTALL scRecover StartedAt: 2025-02-21 15:24:31 -0500 (Fri, 21 Feb 2025) EndedAt: 2025-02-21 15:24:35 -0500 (Fri, 21 Feb 2025) EllapsedTime: 4.1 seconds RetCode: 0 Status: OK