Package: scReClassify Version: 1.13.0 Command: E:\biocbuild\bbs-3.21-bioc\R\bin\R.exe CMD INSTALL scReClassify StartedAt: 2025-02-18 16:12:34 -0500 (Tue, 18 Feb 2025) EndedAt: 2025-02-18 16:13:02 -0500 (Tue, 18 Feb 2025) EllapsedTime: 27.7 seconds RetCode: 0 Status: OK