Package: scReClassify Version: 1.13.0 Command: E:\biocbuild\bbs-3.21-bioc\R\bin\R.exe CMD check --no-multiarch --install=check:scReClassify.install-out.txt --library=E:\biocbuild\bbs-3.21-bioc\R\library --no-vignettes --timings scReClassify_1.13.0.tar.gz StartedAt: 2025-02-19 05:07:04 -0500 (Wed, 19 Feb 2025) EndedAt: 2025-02-19 05:10:31 -0500 (Wed, 19 Feb 2025) EllapsedTime: 207.6 seconds RetCode: 0 Status: OK CheckDir: scReClassify.Rcheck Warnings: 0