Package: scReClassify Version: 1.13.0 Command: /home/biocbuild/bbs-3.21-bioc/R/bin/R CMD build --keep-empty-dirs --no-resave-data scReClassify StartedAt: 2025-02-18 19:01:46 -0500 (Tue, 18 Feb 2025) EndedAt: 2025-02-18 19:04:21 -0500 (Tue, 18 Feb 2025) EllapsedTime: 155.1 seconds RetCode: 0 Status: OK PackageFile: scReClassify_1.13.0.tar.gz PackageFileSize: 2.587 MiB