Package: scReClassify Version: 1.14.0 Command: /Library/Frameworks/R.framework/Resources/bin/R CMD INSTALL scReClassify StartedAt: 2025-10-13 16:50:43 -0400 (Mon, 13 Oct 2025) EndedAt: 2025-10-13 16:51:29 -0400 (Mon, 13 Oct 2025) EllapsedTime: 45.8 seconds RetCode: 0 Status: OK