Package: scReClassify Version: 1.13.0 Command: /Library/Frameworks/R.framework/Resources/bin/R CMD INSTALL scReClassify StartedAt: 2025-02-18 15:11:22 -0500 (Tue, 18 Feb 2025) EndedAt: 2025-02-18 15:11:51 -0500 (Tue, 18 Feb 2025) EllapsedTime: 28.7 seconds RetCode: 0 Status: OK