Package: scReClassify Version: 1.13.0 Command: /home/biocbuild/R/R/bin/R CMD INSTALL scReClassify StartedAt: 2025-01-29 19:41:27 -0000 (Wed, 29 Jan 2025) EndedAt: 2025-01-29 19:41:56 -0000 (Wed, 29 Jan 2025) EllapsedTime: 28.2 seconds RetCode: 0 Status: OK