Package: scRNAseqApp Version: 1.7.11 Command: E:\biocbuild\bbs-3.21-bioc\R\bin\R.exe CMD INSTALL scRNAseqApp StartedAt: 2025-02-20 16:18:25 -0500 (Thu, 20 Feb 2025) EndedAt: 2025-02-20 16:20:22 -0500 (Thu, 20 Feb 2025) EllapsedTime: 117.2 seconds RetCode: 0 Status: OK