Package: scRNAseqApp Version: 1.7.11 Command: chmod a+r scRNAseqApp -R && E:\biocbuild\bbs-3.21-bioc\R\bin\R.exe CMD build --keep-empty-dirs --no-resave-data scRNAseqApp StartedAt: 2025-02-20 21:40:43 -0500 (Thu, 20 Feb 2025) EndedAt: 2025-02-20 21:43:04 -0500 (Thu, 20 Feb 2025) EllapsedTime: 141.2 seconds RetCode: 0 Status: OK PackageFile: scRNAseqApp_1.7.11.tar.gz PackageFileSize: 2.195 MiB