Package: scRNAseqApp Version: 1.7.11 Command: /home/biocbuild/bbs-3.21-bioc/R/bin/R CMD INSTALL scRNAseqApp StartedAt: 2025-02-20 15:35:47 -0500 (Thu, 20 Feb 2025) EndedAt: 2025-02-20 15:36:46 -0500 (Thu, 20 Feb 2025) EllapsedTime: 59.4 seconds RetCode: 0 Status: OK