Package: scRNAseqApp Version: 1.7.11 Command: /home/biocbuild/bbs-3.21-bioc/R/bin/R CMD check --install=check:scRNAseqApp.install-out.txt --library=/home/biocbuild/bbs-3.21-bioc/R/site-library --timings scRNAseqApp_1.7.11.tar.gz StartedAt: 2025-02-21 01:43:29 -0500 (Fri, 21 Feb 2025) EndedAt: 2025-02-21 01:50:28 -0500 (Fri, 21 Feb 2025) EllapsedTime: 419.5 seconds RetCode: 0 Status: OK CheckDir: scRNAseqApp.Rcheck Warnings: 0