Package: scRNAseqApp Version: 1.7.11 Command: /home/biocbuild/bbs-3.21-bioc/R/bin/R CMD build --keep-empty-dirs --no-resave-data scRNAseqApp StartedAt: 2025-02-19 19:08:39 -0500 (Wed, 19 Feb 2025) EndedAt: 2025-02-19 19:10:05 -0500 (Wed, 19 Feb 2025) EllapsedTime: 86.1 seconds RetCode: 0 Status: OK PackageFile: scRNAseqApp_1.7.11.tar.gz PackageFileSize: 2.195 MiB