Package: scRNAseqApp Version: 1.8.0 Command: /home/biocbuild/R/R/bin/R CMD INSTALL scRNAseqApp StartedAt: 2025-10-13 20:41:00 -0000 (Mon, 13 Oct 2025) EndedAt: 2025-10-13 20:42:31 -0000 (Mon, 13 Oct 2025) EllapsedTime: 91.0 seconds RetCode: 0 Status: OK