Package: scRNAseqApp Version: 1.8.0 Command: /home/biocbuild/R/R/bin/R CMD build --keep-empty-dirs --no-resave-data scRNAseqApp StartedAt: 2025-10-14 04:33:22 -0000 (Tue, 14 Oct 2025) EndedAt: 2025-10-14 04:35:28 -0000 (Tue, 14 Oct 2025) EllapsedTime: 126.0 seconds RetCode: 0 Status: OK PackageFile: scRNAseqApp_1.8.0.tar.gz PackageFileSize: 2.26 MiB