Package: scRNAseqApp Version: 1.7.11 Command: /Library/Frameworks/R.framework/Resources/bin/R CMD INSTALL scRNAseqApp StartedAt: 2025-02-20 15:20:57 -0500 (Thu, 20 Feb 2025) EndedAt: 2025-02-20 15:21:22 -0500 (Thu, 20 Feb 2025) EllapsedTime: 24.4 seconds RetCode: 0 Status: OK