Package: scRNAseqApp Version: 1.7.11 Command: /Library/Frameworks/R.framework/Resources/bin/R CMD check --install=check:scRNAseqApp.install-out.txt --library=/Library/Frameworks/R.framework/Resources/library --no-vignettes --timings scRNAseqApp_1.7.11.tar.gz StartedAt: 2025-02-20 21:19:49 -0500 (Thu, 20 Feb 2025) EndedAt: 2025-02-20 21:22:20 -0500 (Thu, 20 Feb 2025) EllapsedTime: 151.7 seconds RetCode: 0 Status: OK CheckDir: scRNAseqApp.Rcheck Warnings: 0