Package: scRNAseqApp Version: 1.7.11 Command: /Library/Frameworks/R.framework/Resources/bin/R CMD build --keep-empty-dirs --no-resave-data scRNAseqApp StartedAt: 2025-02-20 17:33:44 -0500 (Thu, 20 Feb 2025) EndedAt: 2025-02-20 17:34:22 -0500 (Thu, 20 Feb 2025) EllapsedTime: 37.4 seconds RetCode: 0 Status: OK PackageFile: scRNAseqApp_1.7.11.tar.gz PackageFileSize: 2.195 MiB