Package: scRNAseqApp Version: 1.8.0 Command: /Library/Frameworks/R.framework/Resources/bin/R CMD INSTALL scRNAseqApp StartedAt: 2025-10-13 16:39:15 -0400 (Mon, 13 Oct 2025) EndedAt: 2025-10-13 16:40:27 -0400 (Mon, 13 Oct 2025) EllapsedTime: 72.4 seconds RetCode: 0 Status: OK