Package: scRNAseqApp Version: 1.8.0 Command: /Library/Frameworks/R.framework/Resources/bin/R CMD build --keep-empty-dirs --no-resave-data scRNAseqApp StartedAt: 2025-10-14 09:05:09 -0400 (Tue, 14 Oct 2025) EndedAt: 2025-10-14 09:06:57 -0400 (Tue, 14 Oct 2025) EllapsedTime: 108.2 seconds RetCode: 0 Status: OK PackageFile: scRNAseqApp_1.8.0.tar.gz PackageFileSize: 2.196 MiB