Package: scQTLtools Version: 0.99.11 Command: E:\biocbuild\bbs-3.21-bioc\R\bin\R.exe CMD INSTALL scQTLtools StartedAt: 2025-02-18 16:14:33 -0500 (Tue, 18 Feb 2025) EndedAt: 2025-02-18 16:16:08 -0500 (Tue, 18 Feb 2025) EllapsedTime: 95.8 seconds RetCode: 0 Status: OK