Package: scQTLtools Version: 0.99.11 Command: /home/biocbuild/bbs-3.21-bioc/R/bin/R CMD check --install=check:scQTLtools.install-out.txt --library=/home/biocbuild/bbs-3.21-bioc/R/site-library --timings scQTLtools_0.99.11.tar.gz StartedAt: 2025-02-19 02:00:44 -0500 (Wed, 19 Feb 2025) EndedAt: 2025-02-19 02:11:26 -0500 (Wed, 19 Feb 2025) EllapsedTime: 641.8 seconds RetCode: 0 Status: OK CheckDir: scQTLtools.Rcheck Warnings: 0