Package: scQTLtools Version: 0.99.11 Command: /Library/Frameworks/R.framework/Resources/bin/R CMD check --install=check:scQTLtools.install-out.txt --library=/Library/Frameworks/R.framework/Resources/library --no-vignettes --timings scQTLtools_0.99.11.tar.gz StartedAt: 2025-02-18 23:02:08 -0500 (Tue, 18 Feb 2025) EndedAt: 2025-02-18 23:11:54 -0500 (Tue, 18 Feb 2025) EllapsedTime: 586.4 seconds RetCode: 0 Status: OK CheckDir: scQTLtools.Rcheck Warnings: 0