Package: scPipe Version: 2.7.1 Command: chmod a+r scPipe -R && E:\biocbuild\bbs-3.21-bioc\R\bin\R.exe CMD build --keep-empty-dirs --no-resave-data scPipe StartedAt: 2025-02-20 21:38:32 -0500 (Thu, 20 Feb 2025) EndedAt: 2025-02-20 21:44:33 -0500 (Thu, 20 Feb 2025) EllapsedTime: 361.2 seconds RetCode: 0 Status: OK PackageFile: scPipe_2.7.1.tar.gz PackageFileSize: 12.46 MiB