Package: scPipe Version: 2.7.1 Command: rm -rf scPipe.buildbin-libdir && mkdir scPipe.buildbin-libdir && E:\biocbuild\bbs-3.21-bioc\R\bin\R.exe CMD INSTALL --build --library=scPipe.buildbin-libdir scPipe_2.7.1.tar.gz StartedAt: 2025-02-21 09:03:02 -0500 (Fri, 21 Feb 2025) EndedAt: 2025-02-21 09:06:02 -0500 (Fri, 21 Feb 2025) EllapsedTime: 180.3 seconds RetCode: 0 Status: OK PackageFile: scPipe_2.7.1.zip PackageFileSize: 18.03 MiB