Package: scPipe Version: 2.7.1 Command: /Library/Frameworks/R.framework/Resources/bin/R CMD build --keep-empty-dirs --no-resave-data scPipe StartedAt: 2025-02-20 18:10:49 -0500 (Thu, 20 Feb 2025) EndedAt: 2025-02-20 18:26:11 -0500 (Thu, 20 Feb 2025) EllapsedTime: 922.6 seconds RetCode: 0 Status: OK PackageFile: scPipe_2.7.1.tar.gz PackageFileSize: 12.67 MiB