Package: scPipe Version: 2.7.1 Command: rm -rf scPipe.buildbin-libdir && mkdir scPipe.buildbin-libdir && /Users/biocbuild/BBS/utils/build-universal.sh scPipe_2.7.1.tar.gz /Library/Frameworks/R.framework/Resources/bin/R scPipe.buildbin-libdir StartedAt: 2025-02-20 22:34:39 -0500 (Thu, 20 Feb 2025) EndedAt: 2025-02-20 22:35:29 -0500 (Thu, 20 Feb 2025) EllapsedTime: 50.0 seconds RetCode: 0 Status: OK PackageFile: scPipe_2.7.1.tgz PackageFileSize: 13.72 MiB