Package: scPCA Version: 1.21.1 Command: E:\biocbuild\bbs-3.21-bioc\R\bin\R.exe CMD check --no-multiarch --install=check:scPCA.install-out.txt --library=E:\biocbuild\bbs-3.21-bioc\R\library --no-vignettes --timings scPCA_1.21.1.tar.gz StartedAt: 2025-02-19 05:05:58 -0500 (Wed, 19 Feb 2025) EndedAt: 2025-02-19 05:09:38 -0500 (Wed, 19 Feb 2025) EllapsedTime: 220.0 seconds RetCode: 0 Status: OK CheckDir: scPCA.Rcheck Warnings: 0