Package: scPCA Version: 1.21.1 Command: /Library/Frameworks/R.framework/Resources/bin/R CMD build --keep-empty-dirs --no-resave-data scPCA StartedAt: 2025-02-18 18:08:46 -0500 (Tue, 18 Feb 2025) EndedAt: 2025-02-18 18:14:46 -0500 (Tue, 18 Feb 2025) EllapsedTime: 360.0 seconds RetCode: 0 Status: OK PackageFile: scPCA_1.21.1.tar.gz PackageFileSize: 2.046 MiB