Package: scPCA Version: 1.21.1 Command: rm -rf scPCA.buildbin-libdir && mkdir scPCA.buildbin-libdir && /Users/biocbuild/BBS/utils/build-universal.sh scPCA_1.21.1.tar.gz /Library/Frameworks/R.framework/Resources/bin/R scPCA.buildbin-libdir StartedAt: 2025-02-19 00:46:25 -0500 (Wed, 19 Feb 2025) EndedAt: 2025-02-19 00:46:56 -0500 (Wed, 19 Feb 2025) EllapsedTime: 31.1 seconds RetCode: 0 Status: OK PackageFile: scPCA_1.21.1.tgz PackageFileSize: 2.079 MiB