Package: scPCA Version: 1.21.1 Maintainer: Philippe Boileau MaintainerEmail: philippe_boileau at berkeley.edu git_url: https://git.bioconductor.org/packages/scPCA git_branch: devel git_last_commit: 4329b9a git_last_commit_date: 2025-02-10 13:05:14 -0500 (Mon, 10 Feb 2025)