Package: scMerge Version: 1.23.0 Command: E:\biocbuild\bbs-3.21-bioc\R\bin\R.exe CMD INSTALL scMerge StartedAt: 2025-02-17 16:42:20 -0500 (Mon, 17 Feb 2025) EndedAt: 2025-02-17 16:43:17 -0500 (Mon, 17 Feb 2025) EllapsedTime: 57.2 seconds RetCode: 0 Status: OK