Package: scMerge Version: 1.23.0 Command: chmod a+r scMerge -R && E:\biocbuild\bbs-3.21-bioc\R\bin\R.exe CMD build --keep-empty-dirs --no-resave-data scMerge StartedAt: 2025-02-17 21:20:00 -0500 (Mon, 17 Feb 2025) EndedAt: 2025-02-17 21:23:54 -0500 (Mon, 17 Feb 2025) EllapsedTime: 234.4 seconds RetCode: 0 Status: OK PackageFile: scMerge_1.23.0.tar.gz PackageFileSize: 2.561 MiB