Package: scMerge Version: 1.23.0 Command: /home/biocbuild/bbs-3.21-bioc/R/bin/R CMD build --keep-empty-dirs --no-resave-data scMerge StartedAt: 2025-02-18 18:59:27 -0500 (Tue, 18 Feb 2025) EndedAt: 2025-02-18 19:01:46 -0500 (Tue, 18 Feb 2025) EllapsedTime: 139.2 seconds RetCode: 0 Status: OK PackageFile: scMerge_1.23.0.tar.gz PackageFileSize: 2.937 MiB