Package: scMerge Version: 1.23.0 Command: /Library/Frameworks/R.framework/Resources/bin/R CMD INSTALL scMerge StartedAt: 2025-02-17 15:40:33 -0500 (Mon, 17 Feb 2025) EndedAt: 2025-02-17 15:41:33 -0500 (Mon, 17 Feb 2025) EllapsedTime: 60.4 seconds RetCode: 0 Status: OK