Package: scMerge Version: 1.23.0 Command: /Library/Frameworks/R.framework/Resources/bin/R CMD build --keep-empty-dirs --no-resave-data scMerge StartedAt: 2025-02-17 18:07:45 -0500 (Mon, 17 Feb 2025) EndedAt: 2025-02-17 18:10:47 -0500 (Mon, 17 Feb 2025) EllapsedTime: 182.4 seconds RetCode: 0 Status: OK PackageFile: scMerge_1.23.0.tar.gz PackageFileSize: 3.438 MiB